BEGIN:VCALENDAR
VERSION:2.0
PRODID:-//Village of Uplands Parks MO - ECPv6.15.20//NONSGML v1.0//EN
CALSCALE:GREGORIAN
METHOD:PUBLISH
X-WR-CALNAME:Village of Uplands Parks MO
X-ORIGINAL-URL:https://uplandsparkmo.com
X-WR-CALDESC:Events for Village of Uplands Parks MO
REFRESH-INTERVAL;VALUE=DURATION:PT1H
X-Robots-Tag:noindex
X-PUBLISHED-TTL:PT1H
BEGIN:VTIMEZONE
TZID:America/Chicago
BEGIN:DAYLIGHT
TZOFFSETFROM:-0600
TZOFFSETTO:-0500
TZNAME:CDT
DTSTART:20180311T080000
END:DAYLIGHT
BEGIN:STANDARD
TZOFFSETFROM:-0500
TZOFFSETTO:-0600
TZNAME:CST
DTSTART:20181104T070000
END:STANDARD
BEGIN:DAYLIGHT
TZOFFSETFROM:-0600
TZOFFSETTO:-0500
TZNAME:CDT
DTSTART:20190310T080000
END:DAYLIGHT
BEGIN:STANDARD
TZOFFSETFROM:-0500
TZOFFSETTO:-0600
TZNAME:CST
DTSTART:20191103T070000
END:STANDARD
BEGIN:DAYLIGHT
TZOFFSETFROM:-0600
TZOFFSETTO:-0500
TZNAME:CDT
DTSTART:20200308T080000
END:DAYLIGHT
BEGIN:STANDARD
TZOFFSETFROM:-0500
TZOFFSETTO:-0600
TZNAME:CST
DTSTART:20201101T070000
END:STANDARD
END:VTIMEZONE
BEGIN:VTIMEZONE
TZID:UTC
BEGIN:STANDARD
TZOFFSETFROM:+0000
TZOFFSETTO:+0000
TZNAME:UTC
DTSTART:20150101T000000
END:STANDARD
END:VTIMEZONE
BEGIN:VEVENT
DTSTART;TZID=America/Chicago:20190909T180000
DTEND;TZID=America/Chicago:20190909T180000
DTSTAMP:20260418T105930
CREATED:20190703T000109Z
LAST-MODIFIED:20190703T000109Z
UID:285-1568052000-1568052000@uplandsparkmo.com
SUMMARY:Court
DESCRIPTION:
URL:https://uplandsparkmo.com/event/court/
LOCATION:The Village of Uplands Park\, 6390 Natural Bridge Rd.\, Uplands Park\, MO\, 63121\, United States
END:VEVENT
BEGIN:VEVENT
DTSTART;TZID=America/Chicago:20190909T080000
DTEND;TZID=America/Chicago:20190909T080000
DTSTAMP:20260418T105930
CREATED:20190702T235646Z
LAST-MODIFIED:20190702T235646Z
UID:283-1568016000-1568016000@uplandsparkmo.com
SUMMARY:Board Meeting
DESCRIPTION:
URL:https://uplandsparkmo.com/event/board-meeting-3/
LOCATION:The Village of Uplands Park\, 6390 Natural Bridge Rd.\, Uplands Park\, MO\, 63121\, United States
END:VEVENT
BEGIN:VEVENT
DTSTART;VALUE=DATE:20190902
DTEND;VALUE=DATE:20190903
DTSTAMP:20260418T105930
CREATED:20190702T040419Z
LAST-MODIFIED:20190702T040419Z
UID:261-1567382400-1567468799@uplandsparkmo.com
SUMMARY:Labor Day
DESCRIPTION:Office Closed
URL:https://uplandsparkmo.com/event/labor-day/
LOCATION:MO
END:VEVENT
BEGIN:VEVENT
DTSTART;VALUE=DATE:20190819
DTEND;VALUE=DATE:20190820
DTSTAMP:20260418T105930
CREATED:20190703T013448Z
LAST-MODIFIED:20190703T014046Z
UID:286-1566172800-1566259199@uplandsparkmo.com
SUMMARY:First Day of School-Normandy
DESCRIPTION:
URL:https://uplandsparkmo.com/event/first-day-of-school-nsc/
LOCATION:MO
END:VEVENT
BEGIN:VEVENT
DTSTART;TZID=America/Chicago:20190812T180000
DTEND;TZID=America/Chicago:20190812T180000
DTSTAMP:20260418T105930
CREATED:20190702T235546Z
LAST-MODIFIED:20190702T235748Z
UID:282-1565632800-1565632800@uplandsparkmo.com
SUMMARY:Board Meeting
DESCRIPTION:
URL:https://uplandsparkmo.com/event/board-meeting-2/
LOCATION:The Village of Uplands Park\, 6390 Natural Bridge Rd.\, Uplands Park\, MO\, 63121\, United States
END:VEVENT
BEGIN:VEVENT
DTSTART;TZID=America/Chicago:20190812T180000
DTEND;TZID=America/Chicago:20190812T180000
DTSTAMP:20260418T105930
CREATED:20190702T040716Z
LAST-MODIFIED:20190702T235326Z
UID:262-1565632800-1565632800@uplandsparkmo.com
SUMMARY:Court
DESCRIPTION:
URL:https://uplandsparkmo.com/event/court-date-2/
LOCATION:MO
END:VEVENT
BEGIN:VEVENT
DTSTART;TZID=America/Chicago:20190810T110000
DTEND;TZID=America/Chicago:20190810T140000
DTSTAMP:20260418T105930
CREATED:20190703T013919Z
LAST-MODIFIED:20190703T014102Z
UID:287-1565434800-1565445600@uplandsparkmo.com
SUMMARY:Beyond the Backpack-Normandy Back to School Event
DESCRIPTION:FREE BACKPACKS* FREE SCHOOL SUPPLIES* FREE HAIRCUTS (Clean hair required) HEALTH SCREENINGS \nFREE IMMUNIZATIONS
URL:https://uplandsparkmo.com/event/beyond-the-backpack-nsc-back-to-school-event/
LOCATION:Normandy High School\, 6701 St. Charles Rock Rd\, Wellston\, MO\, 63133\, United States
END:VEVENT
BEGIN:VEVENT
DTSTART;TZID=America/Chicago:20190708T180000
DTEND;TZID=America/Chicago:20190708T180000
DTSTAMP:20260418T105930
CREATED:20190702T235219Z
LAST-MODIFIED:20190702T235219Z
UID:280-1562608800-1562608800@uplandsparkmo.com
SUMMARY:Board Meeting
DESCRIPTION:
URL:https://uplandsparkmo.com/event/board-meeting/
LOCATION:The Village of Uplands Park\, 6390 Natural Bridge Rd.\, Uplands Park\, MO\, 63121\, United States
END:VEVENT
BEGIN:VEVENT
DTSTART;TZID=America/Chicago:20190708T180000
DTEND;TZID=America/Chicago:20190708T180000
DTSTAMP:20260418T105930
CREATED:20190702T035906Z
LAST-MODIFIED:20190702T235419Z
UID:255-1562608800-1562608800@uplandsparkmo.com
SUMMARY:Court
DESCRIPTION:
URL:https://uplandsparkmo.com/event/court-date/
LOCATION:MO
END:VEVENT
BEGIN:VEVENT
DTSTART;VALUE=DATE:20190704
DTEND;VALUE=DATE:20190705
DTSTAMP:20260418T105930
CREATED:20190702T235908Z
LAST-MODIFIED:20190702T235922Z
UID:284-1562198400-1562284799@uplandsparkmo.com
SUMMARY:Independence Day
DESCRIPTION:Office Closed
URL:https://uplandsparkmo.com/event/independence-day/
LOCATION:MO
END:VEVENT
BEGIN:VEVENT
DTSTART;TZID=UTC:20161108T060000
DTEND;TZID=UTC:20161108T190000
DTSTAMP:20260418T105930
CREATED:20161013T060443Z
LAST-MODIFIED:20161013T060443Z
UID:94-1478584800-1478631600@uplandsparkmo.com
SUMMARY:Election Day
DESCRIPTION:Come here to vote
URL:https://uplandsparkmo.com/event/election-day/
LOCATION:MO
END:VEVENT
END:VCALENDAR